BEGIN:VCALENDAR
VERSION:2.0
PRODID:-//German HCI - ECPv6.15.20//NONSGML v1.0//EN
CALSCALE:GREGORIAN
METHOD:PUBLISH
X-WR-CALNAME:German HCI
X-ORIGINAL-URL:https://www.germanhci.de
X-WR-CALDESC:Events for German HCI
REFRESH-INTERVAL;VALUE=DURATION:PT1H
X-Robots-Tag:noindex
X-PUBLISHED-TTL:PT1H
BEGIN:VTIMEZONE
TZID:America/New_York
BEGIN:DAYLIGHT
TZOFFSETFROM:-0500
TZOFFSETTO:-0400
TZNAME:EDT
DTSTART:20210314T070000
END:DAYLIGHT
BEGIN:STANDARD
TZOFFSETFROM:-0400
TZOFFSETTO:-0500
TZNAME:EST
DTSTART:20211107T060000
END:STANDARD
BEGIN:DAYLIGHT
TZOFFSETFROM:-0500
TZOFFSETTO:-0400
TZNAME:EDT
DTSTART:20220313T070000
END:DAYLIGHT
BEGIN:STANDARD
TZOFFSETFROM:-0400
TZOFFSETTO:-0500
TZNAME:EST
DTSTART:20221106T060000
END:STANDARD
BEGIN:DAYLIGHT
TZOFFSETFROM:-0500
TZOFFSETTO:-0400
TZNAME:EDT
DTSTART:20230312T070000
END:DAYLIGHT
BEGIN:STANDARD
TZOFFSETFROM:-0400
TZOFFSETTO:-0500
TZNAME:EST
DTSTART:20231105T060000
END:STANDARD
END:VTIMEZONE
BEGIN:VEVENT
DTSTART;TZID=America/New_York:20220503T164500
DTEND;TZID=America/New_York:20220503T170000
DTSTAMP:20260421T121304
CREATED:20220422T095612Z
LAST-MODIFIED:20220427T081208Z
UID:1770-1651596300-1651597200@www.germanhci.de
SUMMARY:Reducing Virtual Reality Sickness for Cyclists in VR Bicycle Simulators
DESCRIPTION:Virtual Reality (VR) bicycle simulations aim to recreate the feeling of riding a bicycle and are commonly used in many application areas. However\, current solutions still create mismatches between the visuals and physical movement\, which causes VR sickness and diminishes the cycling experience. To reduce VR sickness in bicycle simulators\, we conducted two controlled lab experiments addressing two main causes of VR sickness: (1) steering methods and (2) cycling trajectory. In the first experiment (N = 18) we compared handlebar\, HMD\, and upper-body steering methods. In the second experiment (N = 24) we explored three types of movement in VR (1D\, 2D\, and 3D trajectories) and three countermeasures (airflow\, vibration\, and dynamic Field-of-View) to reduce VR sickness. We found that handlebar steering leads to the lowest VR sickness without decreasing cycling performance and airflow suggests to be the most promising method to reduce VR sickness for all three types of trajectories.
URL:https://www.germanhci.de/event/reducing-virtual-reality-sickness-for-cyclists-in-vr-bicycle-simulators/
LOCATION:Room: 290
CATEGORIES:Improving VR Experiences
END:VEVENT
END:VCALENDAR